BEGIN:VCALENDAR
VERSION:2.0
PRODID:-// The Cracked Coconut - ECPv6.13.1//NONSGML v1.0//EN
CALSCALE:GREGORIAN
METHOD:PUBLISH
X-WR-CALNAME: The Cracked Coconut
X-ORIGINAL-URL:https://thecrackedcoconuttampa.com
X-WR-CALDESC:Events for  The Cracked Coconut
REFRESH-INTERVAL;VALUE=DURATION:PT1H
X-Robots-Tag:noindex
X-PUBLISHED-TTL:PT1H
BEGIN:VTIMEZONE
TZID:UTC
BEGIN:STANDARD
TZOFFSETFROM:+0000
TZOFFSETTO:+0000
TZNAME:UTC
DTSTART:20240101T000000
END:STANDARD
END:VTIMEZONE
BEGIN:VEVENT
DTSTART;TZID=UTC:20240921T170000
DTEND;TZID=UTC:20240921T210000
DTSTAMP:20260420T161817
CREATED:20240812T183502Z
LAST-MODIFIED:20240816T215128Z
UID:707-1726938000-1726952400@thecrackedcoconuttampa.com
SUMMARY:Annual Krewe Rush Night
DESCRIPTION:9841 E Adamo Dr. Tampa\, FL
URL:https://thecrackedcoconuttampa.com/event/annual-krewe-rush-night/
LOCATION:9841 E Adamo Dr\, 9841 E Adamo Dr\, Florida\, 729\, United States
END:VEVENT
BEGIN:VEVENT
DTSTART;TZID=UTC:20240914T120000
DTEND;TZID=UTC:20240915T170000
DTSTAMP:20260420T161817
CREATED:20240812T184305Z
LAST-MODIFIED:20240816T215102Z
UID:709-1726315200-1726419600@thecrackedcoconuttampa.com
SUMMARY:Tampa Bay Chocolate Festival
DESCRIPTION:Gulf View Square Mall 9409 US 19\, Port Richey FL 34668
URL:https://thecrackedcoconuttampa.com/event/tampa-bay-chocolate-festival/
LOCATION:Gulf View Square\, Gulf View Square\, florida\, FL\, 32062\, United States
END:VEVENT
BEGIN:VEVENT
DTSTART;TZID=UTC:20240817T140000
DTEND;TZID=UTC:20240817T210000
DTSTAMP:20260420T161817
CREATED:20240812T185040Z
LAST-MODIFIED:20240816T213150Z
UID:713-1723903200-1723928400@thecrackedcoconuttampa.com
SUMMARY:Hippie Fest
DESCRIPTION:Tarpon Springs Sponge Docks 735 Dodecanese Blvd\, Tarpon Springs\, FL
URL:https://thecrackedcoconuttampa.com/event/hippie-fest/
LOCATION:Hippie Fest\, Tarpon Springs Sponge Docks\, Florida\, FL\, 727\, United States
END:VEVENT
BEGIN:VEVENT
DTSTART;TZID=UTC:20240804T090000
DTEND;TZID=UTC:20240804T090000
DTSTAMP:20260420T161817
CREATED:20240812T184809Z
LAST-MODIFIED:20240813T005801Z
UID:711-1722762000-1722762000@thecrackedcoconuttampa.com
SUMMARY:Brandon Sunday Market 
DESCRIPTION:788 W. Lumsden Rd. Brandon\, FL
URL:https://thecrackedcoconuttampa.com/event/brandon-sunday-market/
LOCATION:FL
END:VEVENT
END:VCALENDAR